BEGIN:VCALENDAR
VERSION:2.0
PRODID:-//Contratero//ES
CALSCALE:GREGORIAN
METHOD:PUBLISH
BEGIN:VEVENT
UID:GE. 44/2025@contratero.es
DTSTAMP:20260422T032042Z
DTSTART:20251229T235959
DTEND:20251230T005959
SUMMARY:Cierre: Suministro de Licencias Microsoft 365.
DESCRIPTION:Suministro de Licencias Microsoft 365.\\n\\nOrganismo: Gerencia de Limpieza Pública y Protección Ambiental Sociedad Anónima Municipal (LIPASAM)\\n\\nVer en Contratero: https://contratero.es/contracts/GE. 44/2025
URL:https://contratero.es/contracts/GE. 44/2025
STATUS:CONFIRMED
BEGIN:VALARM
TRIGGER:-P1D
ACTION:DISPLAY
DESCRIPTION:Recordatorio: Suministro de Licencias Micros
END:VALARM
END:VEVENT
END:VCALENDAR